View In:
ArcGIS JavaScript
ArcGIS Online Map Viewer
ArcGIS Earth
ArcMap
View Footprint In:
ArcGIS Online Map Viewer
Service Description: Dieser Dienst liefert Luftbilder des Kölner Stadtgebiets aus dem Jahre 2020 als Digitale True Orthophotos (TrueDOP).Digitale True Orthophotos (TrueDOP) sind hochauflösende, verzerrungsfreie, maßstabsgetreue, georeferenzierte und verkippungsfreie Abbildungen der Erdoberfläche. Sie werden durch photogrammetrische Verfahren in Kenntnis der Orientierungsparameter und unter Hinzunahme eines bildbasierten Digitalen Oberflächenmodells (bDOM) aus Luftbildern hergestellt. Die verkippungsfreie Darstellung vermittelt eine Senkrechtsicht auf die Erdoberfläche für jeden einzelnen Punkt der Aufnahme. Diese liegen für das Kölner Stadtgebiet flächendeckend vor. Sie werden nach dem Produktstandard des Landes, der auf den Festlegungen eines AdV-Standards (AdV Arbeitsgemeinschaft der Vermessungsverwaltungen der Länder) beruht, hergestellt und weisen eine Bodenauflösung von 10cm/Pixel auf. Der Layer TrueDop Colorinfrarot hat die Kanalbelegung IRG (Infrarot-Rot-Grün). Befliegungsdatum 17.04.2020, Bodenauflösung 10 cm
Name: luftbilder/luftbild_ir_2020
Description: Dieser Dienst liefert Luftbilder des Kölner Stadtgebiets aus dem Jahre 2020 als Digitale True Orthophotos (TrueDOP).Digitale True Orthophotos (TrueDOP) sind hochauflösende, verzerrungsfreie, maßstabsgetreue, georeferenzierte und verkippungsfreie Abbildungen der Erdoberfläche. Sie werden durch photogrammetrische Verfahren in Kenntnis der Orientierungsparameter und unter Hinzunahme eines bildbasierten Digitalen Oberflächenmodells (bDOM) aus Luftbildern hergestellt. Die verkippungsfreie Darstellung vermittelt eine Senkrechtsicht auf die Erdoberfläche für jeden einzelnen Punkt der Aufnahme. Diese liegen für das Kölner Stadtgebiet flächendeckend vor. Sie werden nach dem Produktstandard des Landes, der auf den Festlegungen eines AdV-Standards (AdV Arbeitsgemeinschaft der Vermessungsverwaltungen der Länder) beruht, hergestellt und weisen eine Bodenauflösung von 10cm/Pixel auf. Der Layer TrueDop Colorinfrarot hat die Kanalbelegung IRG (Infrarot-Rot-Grün). Befliegungsdatum 17.04.2020, Bodenauflösung 10 cm
Single Fused Map Cache: false
Extent:
XMin: 343499.9822771633
YMin: 5632499.992936342
XMax: 372499.9822771633
YMax: 5661999.992936342
Spatial Reference: 25832
(25832)
Initial Extent:
XMin: 343499.9822771633
YMin: 5632499.992936342
XMax: 372499.9822771633
YMax: 5661999.992936342
Spatial Reference: 25832
(25832)
Full Extent:
XMin: 343499.9822771633
YMin: 5632499.992936342
XMax: 372499.9822771633
YMax: 5661999.992936342
Spatial Reference: 25832
(25832)
Pixel Size X: 0.05
Pixel Size Y: 0.05
Band Count: 3
Pixel Type: U8
RasterFunction Infos: {"rasterFunctionInfos": [{
"name": "None",
"description": "",
"help": ""
}]}
Mensuration Capabilities: Basic
Has Histograms: false
Has Colormap: false
Has Multi Dimensions : false
Rendering Rule:
Min Scale: 0
Max Scale: 0
Copyright Text: Katasterservice - Stadt Köln (Amt 23)
Service Data Type: esriImageServiceDataTypeRGB
Min Values: N/A
Max Values: N/A
Mean Values: N/A
Standard Deviation Values: N/A
Object ID Field:
Fields:
None
Default Mosaic Method: Center
Allowed Mosaic Methods:
SortField:
SortValue: null
Mosaic Operator: First
Default Compression Quality: 75
Default Resampling Method: Bilinear
Max Record Count: null
Max Image Height: 4100
Max Image Width: 15000
Max Download Image Count: null
Max Mosaic Image Count: null
Allow Raster Function: true
Allow Copy: null
Allow Analysis: null
Allow Compute TiePoints: false
Supports Statistics: false
Supports Advanced Queries: false
Use StandardizedQueries: true
Raster Type Infos:
Name: Raster Dataset
Description: Supports all ArcGIS Raster Datasets
Help:
Has Raster Attribute Table: false
Edit Fields Info: null
Ownership Based AccessControl For Rasters: null
Child Resources:
Info
Key Properties
Legend
Raster Function Infos
Supported Operations:
Export Image
Identify
Measure
Compute Histograms
Compute Statistics Histograms
Get Samples
Compute Class Statistics
Query Boundary
Compute Pixel Location
Validate
Project